BEGIN:VCALENDAR
VERSION:2.0
PRODID:-//RIGHTHERE//CALENDARIZE IT V3.2//EN
BEGIN:VEVENT
UID:6793-events@auglaize.org
DTSTART:20180715T223000Z
DTEND:20180716T000000Z
DTSTAMP:20180604T131227Z
SUMMARY:Summer Concert Series – Walt Schmitmeyer & the Moonlighters
URL:https://auglaize.org/events/summer-concert-series-walt-schmitmeyer-the-
 moonlighters/
ORGANIZER;CN=Southwestern Auglaize County Chamber of Commerce:
LOCATION:2 W Plum St New Bremen\, OH 45869
END:VEVENT
END:VCALENDAR